BEGIN:VCALENDAR
VERSION:2.0
PRODID:-//ADKN e.V. - ECPv6.15.20//NONSGML v1.0//EN
CALSCALE:GREGORIAN
METHOD:PUBLISH
X-WR-CALNAME:ADKN e.V.
X-ORIGINAL-URL:https://www.adkn.de
X-WR-CALDESC:Veranstaltungen für ADKN e.V.
REFRESH-INTERVAL;VALUE=DURATION:PT1H
X-Robots-Tag:noindex
X-PUBLISHED-TTL:PT1H
BEGIN:VTIMEZONE
TZID:Europe/Berlin
BEGIN:DAYLIGHT
TZOFFSETFROM:+0100
TZOFFSETTO:+0200
TZNAME:CEST
DTSTART:20230326T010000
END:DAYLIGHT
BEGIN:STANDARD
TZOFFSETFROM:+0200
TZOFFSETTO:+0100
TZNAME:CET
DTSTART:20231029T010000
END:STANDARD
BEGIN:DAYLIGHT
TZOFFSETFROM:+0100
TZOFFSETTO:+0200
TZNAME:CEST
DTSTART:20240331T010000
END:DAYLIGHT
BEGIN:STANDARD
TZOFFSETFROM:+0200
TZOFFSETTO:+0100
TZNAME:CET
DTSTART:20241027T010000
END:STANDARD
BEGIN:DAYLIGHT
TZOFFSETFROM:+0100
TZOFFSETTO:+0200
TZNAME:CEST
DTSTART:20250330T010000
END:DAYLIGHT
BEGIN:STANDARD
TZOFFSETFROM:+0200
TZOFFSETTO:+0100
TZNAME:CET
DTSTART:20251026T010000
END:STANDARD
END:VTIMEZONE
BEGIN:VEVENT
DTSTART;TZID=Europe/Berlin:20240414T100000
DTEND;TZID=Europe/Berlin:20240414T170000
DTSTAMP:20260425T035908
CREATED:20230412T045137Z
LAST-MODIFIED:20240218T090615Z
UID:15855-1713088800-1713114000@www.adkn.de
SUMMARY:Wanderung der Landesgruppe Süd-West
DESCRIPTION:Die Landesgruppe Südwest lädt zur Wanderung um den Dickschied ein.\n  \nTermin: 14.04.2024 – Uhrzeit: 10 Uhr \nTreffpunkt: 65321 Dickschied\, DGH \nHiermit laden wir zu unserer Frühjahrswanderung 2024 ein.\nDieses Mal Wandern wir rund um Dickschied und kehren dann in die neu erbaute Atzmannhütte ein. \nWir freuen uns auf jeden der Lust hat zu kommen und auf schönes Wetter. \nAnmeldung bei der LG – Leiterin Susanne Wenzel \nTel.: 06775 / 968800 E-Mail: susanne.wenzel@adkn.de \nWir freuen uns auf euer Kommen und sagen herzlichen Dank im Voraus! \nSusanne und Günter Wenzel \n \n 
URL:https://www.adkn.de/veranstaltung/wanderung-der-landesgruppe-sued-west/
LOCATION:Dickschied DGH\, DGH\, Dickschied\, 65321
CATEGORIES:Wanderungen und Treffen
ATTACH;FMTTYPE=image/jpeg:https://www.adkn.de/wp-content/uploads/2023/04/Bild-Wenzel.jpg
END:VEVENT
END:VCALENDAR